BEGIN:VCALENDAR
VERSION:2.0
PRODID:-//Run For The Wall® - ECPv6.15.20//NONSGML v1.0//EN
CALSCALE:GREGORIAN
METHOD:PUBLISH
X-WR-CALNAME:Run For The Wall®
X-ORIGINAL-URL:https://rftw.us
X-WR-CALDESC:Events for Run For The Wall®
REFRESH-INTERVAL;VALUE=DURATION:PT1H
X-Robots-Tag:noindex
X-PUBLISHED-TTL:PT1H
BEGIN:VTIMEZONE
TZID:America/Los_Angeles
BEGIN:DAYLIGHT
TZOFFSETFROM:-0800
TZOFFSETTO:-0700
TZNAME:PDT
DTSTART:20270314T100000
END:DAYLIGHT
BEGIN:STANDARD
TZOFFSETFROM:-0700
TZOFFSETTO:-0800
TZNAME:PST
DTSTART:20271107T090000
END:STANDARD
BEGIN:DAYLIGHT
TZOFFSETFROM:-0800
TZOFFSETTO:-0700
TZNAME:PDT
DTSTART:20280312T100000
END:DAYLIGHT
BEGIN:STANDARD
TZOFFSETFROM:-0700
TZOFFSETTO:-0800
TZNAME:PST
DTSTART:20281105T090000
END:STANDARD
BEGIN:DAYLIGHT
TZOFFSETFROM:-0800
TZOFFSETTO:-0700
TZNAME:PDT
DTSTART:20290311T100000
END:DAYLIGHT
BEGIN:STANDARD
TZOFFSETFROM:-0700
TZOFFSETTO:-0800
TZNAME:PST
DTSTART:20291104T090000
END:STANDARD
BEGIN:DAYLIGHT
TZOFFSETFROM:-0800
TZOFFSETTO:-0700
TZNAME:PDT
DTSTART:20300310T100000
END:DAYLIGHT
BEGIN:STANDARD
TZOFFSETFROM:-0700
TZOFFSETTO:-0800
TZNAME:PST
DTSTART:20301103T090000
END:STANDARD
END:VTIMEZONE
BEGIN:VEVENT
DTSTART;TZID=America/Los_Angeles:20281129T073000
DTEND;TZID=America/Los_Angeles:20281129T090000
DTSTAMP:20260420T051417
CREATED:20250929T201238Z
LAST-MODIFIED:20251030T220123Z
UID:10000228-1859095800-1859101200@rftw.us
SUMMARY:Colorado RFTW Breakfast Get Together
DESCRIPTION:Many RFTW riders from Colorado get together for breakfast\, fellowship and fun EVERY WEDNESDAY at: \nDoug’s Diner\n4330 CO-66\nLongmont\, CO 80504\n(Google Maps) \nhttps://www.dougsdiner.com/ \nIt’s technically an 8AM start\, but people tend to start gathering at 7:30AM. \nFeel free to come any time\, and bring your spouse or partner\, too.
URL:https://rftw.us/event/colorado-rftw-breakfast-get-together-2/2028-11-29/
LOCATION:Doug’s Diner\, 4330 CO-66\, Longmont\, 80504\, United States
ATTACH;FMTTYPE=image/png:https://rftw.us/wp-content/uploads/2024/08/Colorado-State-Flag.png
ORGANIZER;CN="Kirk Olson":MAILTO:kirk.olson@rftw.us
END:VEVENT
BEGIN:VEVENT
DTSTART;TZID=America/Los_Angeles:20281206T073000
DTEND;TZID=America/Los_Angeles:20281206T090000
DTSTAMP:20260420T051417
CREATED:20250929T201238Z
LAST-MODIFIED:20251030T220123Z
UID:10000229-1859700600-1859706000@rftw.us
SUMMARY:Colorado RFTW Breakfast Get Together
DESCRIPTION:Many RFTW riders from Colorado get together for breakfast\, fellowship and fun EVERY WEDNESDAY at: \nDoug’s Diner\n4330 CO-66\nLongmont\, CO 80504\n(Google Maps) \nhttps://www.dougsdiner.com/ \nIt’s technically an 8AM start\, but people tend to start gathering at 7:30AM. \nFeel free to come any time\, and bring your spouse or partner\, too.
URL:https://rftw.us/event/colorado-rftw-breakfast-get-together-2/2028-12-06/
LOCATION:Doug’s Diner\, 4330 CO-66\, Longmont\, 80504\, United States
ATTACH;FMTTYPE=image/png:https://rftw.us/wp-content/uploads/2024/08/Colorado-State-Flag.png
ORGANIZER;CN="Kirk Olson":MAILTO:kirk.olson@rftw.us
END:VEVENT
BEGIN:VEVENT
DTSTART;TZID=America/Los_Angeles:20281213T073000
DTEND;TZID=America/Los_Angeles:20281213T090000
DTSTAMP:20260420T051417
CREATED:20250929T201238Z
LAST-MODIFIED:20251030T220123Z
UID:10000230-1860305400-1860310800@rftw.us
SUMMARY:Colorado RFTW Breakfast Get Together
DESCRIPTION:Many RFTW riders from Colorado get together for breakfast\, fellowship and fun EVERY WEDNESDAY at: \nDoug’s Diner\n4330 CO-66\nLongmont\, CO 80504\n(Google Maps) \nhttps://www.dougsdiner.com/ \nIt’s technically an 8AM start\, but people tend to start gathering at 7:30AM. \nFeel free to come any time\, and bring your spouse or partner\, too.
URL:https://rftw.us/event/colorado-rftw-breakfast-get-together-2/2028-12-13/
LOCATION:Doug’s Diner\, 4330 CO-66\, Longmont\, 80504\, United States
ATTACH;FMTTYPE=image/png:https://rftw.us/wp-content/uploads/2024/08/Colorado-State-Flag.png
ORGANIZER;CN="Kirk Olson":MAILTO:kirk.olson@rftw.us
END:VEVENT
BEGIN:VEVENT
DTSTART;TZID=America/Los_Angeles:20281220T073000
DTEND;TZID=America/Los_Angeles:20281220T090000
DTSTAMP:20260420T051417
CREATED:20250929T201238Z
LAST-MODIFIED:20251030T220123Z
UID:10000231-1860910200-1860915600@rftw.us
SUMMARY:Colorado RFTW Breakfast Get Together
DESCRIPTION:Many RFTW riders from Colorado get together for breakfast\, fellowship and fun EVERY WEDNESDAY at: \nDoug’s Diner\n4330 CO-66\nLongmont\, CO 80504\n(Google Maps) \nhttps://www.dougsdiner.com/ \nIt’s technically an 8AM start\, but people tend to start gathering at 7:30AM. \nFeel free to come any time\, and bring your spouse or partner\, too.
URL:https://rftw.us/event/colorado-rftw-breakfast-get-together-2/2028-12-20/
LOCATION:Doug’s Diner\, 4330 CO-66\, Longmont\, 80504\, United States
ATTACH;FMTTYPE=image/png:https://rftw.us/wp-content/uploads/2024/08/Colorado-State-Flag.png
ORGANIZER;CN="Kirk Olson":MAILTO:kirk.olson@rftw.us
END:VEVENT
BEGIN:VEVENT
DTSTART;TZID=America/Los_Angeles:20281223T110000
DTEND;TZID=America/Los_Angeles:20281223T123000
DTSTAMP:20260420T051417
CREATED:20250929T201929Z
LAST-MODIFIED:20250929T201929Z
UID:10000319-1861182000-1861187400@rftw.us
SUMMARY:NorCal Monthly RFTW Meeting
DESCRIPTION:The NorCal RFTW meetup group meets on the 4th Saturday of each month at the Cornerstone Cafe in Sacramento. Come join us to stay in touch with your RFTW family and meet FNG’s to help them succeed.
URL:https://rftw.us/event/norcal-monthly-rftw-meeting-2/2028-12-23/
LOCATION:Cornerstone Cafe\, 1617 Sacramento Ave\, West Sacramento\, CA\, 95605\, United States
ATTACH;FMTTYPE=image/png:https://rftw.us/wp-content/uploads/2024/09/California-State-Flag.png
ORGANIZER;CN="Don 'EZ' Burns":MAILTO:don.burns@rftw.us
END:VEVENT
BEGIN:VEVENT
DTSTART;TZID=America/Los_Angeles:20281227T073000
DTEND;TZID=America/Los_Angeles:20281227T090000
DTSTAMP:20260420T051417
CREATED:20250929T201238Z
LAST-MODIFIED:20251030T220123Z
UID:10000232-1861515000-1861520400@rftw.us
SUMMARY:Colorado RFTW Breakfast Get Together
DESCRIPTION:Many RFTW riders from Colorado get together for breakfast\, fellowship and fun EVERY WEDNESDAY at: \nDoug’s Diner\n4330 CO-66\nLongmont\, CO 80504\n(Google Maps) \nhttps://www.dougsdiner.com/ \nIt’s technically an 8AM start\, but people tend to start gathering at 7:30AM. \nFeel free to come any time\, and bring your spouse or partner\, too.
URL:https://rftw.us/event/colorado-rftw-breakfast-get-together-2/2028-12-27/
LOCATION:Doug’s Diner\, 4330 CO-66\, Longmont\, 80504\, United States
ATTACH;FMTTYPE=image/png:https://rftw.us/wp-content/uploads/2024/08/Colorado-State-Flag.png
ORGANIZER;CN="Kirk Olson":MAILTO:kirk.olson@rftw.us
END:VEVENT
BEGIN:VEVENT
DTSTART;TZID=America/Los_Angeles:20290103T073000
DTEND;TZID=America/Los_Angeles:20290103T090000
DTSTAMP:20260420T051417
CREATED:20250929T201238Z
LAST-MODIFIED:20251030T220123Z
UID:10000233-1862119800-1862125200@rftw.us
SUMMARY:Colorado RFTW Breakfast Get Together
DESCRIPTION:Many RFTW riders from Colorado get together for breakfast\, fellowship and fun EVERY WEDNESDAY at: \nDoug’s Diner\n4330 CO-66\nLongmont\, CO 80504\n(Google Maps) \nhttps://www.dougsdiner.com/ \nIt’s technically an 8AM start\, but people tend to start gathering at 7:30AM. \nFeel free to come any time\, and bring your spouse or partner\, too.
URL:https://rftw.us/event/colorado-rftw-breakfast-get-together-2/2029-01-03/
LOCATION:Doug’s Diner\, 4330 CO-66\, Longmont\, 80504\, United States
ATTACH;FMTTYPE=image/png:https://rftw.us/wp-content/uploads/2024/08/Colorado-State-Flag.png
ORGANIZER;CN="Kirk Olson":MAILTO:kirk.olson@rftw.us
END:VEVENT
BEGIN:VEVENT
DTSTART;TZID=America/Los_Angeles:20290110T073000
DTEND;TZID=America/Los_Angeles:20290110T090000
DTSTAMP:20260420T051417
CREATED:20250929T201238Z
LAST-MODIFIED:20251030T220123Z
UID:10000234-1862724600-1862730000@rftw.us
SUMMARY:Colorado RFTW Breakfast Get Together
DESCRIPTION:Many RFTW riders from Colorado get together for breakfast\, fellowship and fun EVERY WEDNESDAY at: \nDoug’s Diner\n4330 CO-66\nLongmont\, CO 80504\n(Google Maps) \nhttps://www.dougsdiner.com/ \nIt’s technically an 8AM start\, but people tend to start gathering at 7:30AM. \nFeel free to come any time\, and bring your spouse or partner\, too.
URL:https://rftw.us/event/colorado-rftw-breakfast-get-together-2/2029-01-10/
LOCATION:Doug’s Diner\, 4330 CO-66\, Longmont\, 80504\, United States
ATTACH;FMTTYPE=image/png:https://rftw.us/wp-content/uploads/2024/08/Colorado-State-Flag.png
ORGANIZER;CN="Kirk Olson":MAILTO:kirk.olson@rftw.us
END:VEVENT
BEGIN:VEVENT
DTSTART;TZID=America/Los_Angeles:20290117T073000
DTEND;TZID=America/Los_Angeles:20290117T090000
DTSTAMP:20260420T051417
CREATED:20250929T201238Z
LAST-MODIFIED:20251030T220123Z
UID:10000235-1863329400-1863334800@rftw.us
SUMMARY:Colorado RFTW Breakfast Get Together
DESCRIPTION:Many RFTW riders from Colorado get together for breakfast\, fellowship and fun EVERY WEDNESDAY at: \nDoug’s Diner\n4330 CO-66\nLongmont\, CO 80504\n(Google Maps) \nhttps://www.dougsdiner.com/ \nIt’s technically an 8AM start\, but people tend to start gathering at 7:30AM. \nFeel free to come any time\, and bring your spouse or partner\, too.
URL:https://rftw.us/event/colorado-rftw-breakfast-get-together-2/2029-01-17/
LOCATION:Doug’s Diner\, 4330 CO-66\, Longmont\, 80504\, United States
ATTACH;FMTTYPE=image/png:https://rftw.us/wp-content/uploads/2024/08/Colorado-State-Flag.png
ORGANIZER;CN="Kirk Olson":MAILTO:kirk.olson@rftw.us
END:VEVENT
BEGIN:VEVENT
DTSTART;TZID=America/Los_Angeles:20290124T073000
DTEND;TZID=America/Los_Angeles:20290124T090000
DTSTAMP:20260420T051417
CREATED:20250929T201238Z
LAST-MODIFIED:20251030T220123Z
UID:10000236-1863934200-1863939600@rftw.us
SUMMARY:Colorado RFTW Breakfast Get Together
DESCRIPTION:Many RFTW riders from Colorado get together for breakfast\, fellowship and fun EVERY WEDNESDAY at: \nDoug’s Diner\n4330 CO-66\nLongmont\, CO 80504\n(Google Maps) \nhttps://www.dougsdiner.com/ \nIt’s technically an 8AM start\, but people tend to start gathering at 7:30AM. \nFeel free to come any time\, and bring your spouse or partner\, too.
URL:https://rftw.us/event/colorado-rftw-breakfast-get-together-2/2029-01-24/
LOCATION:Doug’s Diner\, 4330 CO-66\, Longmont\, 80504\, United States
ATTACH;FMTTYPE=image/png:https://rftw.us/wp-content/uploads/2024/08/Colorado-State-Flag.png
ORGANIZER;CN="Kirk Olson":MAILTO:kirk.olson@rftw.us
END:VEVENT
BEGIN:VEVENT
DTSTART;TZID=America/Los_Angeles:20290127T110000
DTEND;TZID=America/Los_Angeles:20290127T123000
DTSTAMP:20260420T051417
CREATED:20250929T201929Z
LAST-MODIFIED:20250929T201929Z
UID:10000320-1864206000-1864211400@rftw.us
SUMMARY:NorCal Monthly RFTW Meeting
DESCRIPTION:The NorCal RFTW meetup group meets on the 4th Saturday of each month at the Cornerstone Cafe in Sacramento. Come join us to stay in touch with your RFTW family and meet FNG’s to help them succeed.
URL:https://rftw.us/event/norcal-monthly-rftw-meeting-2/2029-01-27/
LOCATION:Cornerstone Cafe\, 1617 Sacramento Ave\, West Sacramento\, CA\, 95605\, United States
ATTACH;FMTTYPE=image/png:https://rftw.us/wp-content/uploads/2024/09/California-State-Flag.png
ORGANIZER;CN="Don 'EZ' Burns":MAILTO:don.burns@rftw.us
END:VEVENT
BEGIN:VEVENT
DTSTART;TZID=America/Los_Angeles:20290131T073000
DTEND;TZID=America/Los_Angeles:20290131T090000
DTSTAMP:20260420T051417
CREATED:20250929T201238Z
LAST-MODIFIED:20251030T220123Z
UID:10000237-1864539000-1864544400@rftw.us
SUMMARY:Colorado RFTW Breakfast Get Together
DESCRIPTION:Many RFTW riders from Colorado get together for breakfast\, fellowship and fun EVERY WEDNESDAY at: \nDoug’s Diner\n4330 CO-66\nLongmont\, CO 80504\n(Google Maps) \nhttps://www.dougsdiner.com/ \nIt’s technically an 8AM start\, but people tend to start gathering at 7:30AM. \nFeel free to come any time\, and bring your spouse or partner\, too.
URL:https://rftw.us/event/colorado-rftw-breakfast-get-together-2/2029-01-31/
LOCATION:Doug’s Diner\, 4330 CO-66\, Longmont\, 80504\, United States
ATTACH;FMTTYPE=image/png:https://rftw.us/wp-content/uploads/2024/08/Colorado-State-Flag.png
ORGANIZER;CN="Kirk Olson":MAILTO:kirk.olson@rftw.us
END:VEVENT
BEGIN:VEVENT
DTSTART;TZID=America/Los_Angeles:20290207T073000
DTEND;TZID=America/Los_Angeles:20290207T090000
DTSTAMP:20260420T051417
CREATED:20250929T201238Z
LAST-MODIFIED:20251030T220123Z
UID:10000238-1865143800-1865149200@rftw.us
SUMMARY:Colorado RFTW Breakfast Get Together
DESCRIPTION:Many RFTW riders from Colorado get together for breakfast\, fellowship and fun EVERY WEDNESDAY at: \nDoug’s Diner\n4330 CO-66\nLongmont\, CO 80504\n(Google Maps) \nhttps://www.dougsdiner.com/ \nIt’s technically an 8AM start\, but people tend to start gathering at 7:30AM. \nFeel free to come any time\, and bring your spouse or partner\, too.
URL:https://rftw.us/event/colorado-rftw-breakfast-get-together-2/2029-02-07/
LOCATION:Doug’s Diner\, 4330 CO-66\, Longmont\, 80504\, United States
ATTACH;FMTTYPE=image/png:https://rftw.us/wp-content/uploads/2024/08/Colorado-State-Flag.png
ORGANIZER;CN="Kirk Olson":MAILTO:kirk.olson@rftw.us
END:VEVENT
BEGIN:VEVENT
DTSTART;TZID=America/Los_Angeles:20290214T073000
DTEND;TZID=America/Los_Angeles:20290214T090000
DTSTAMP:20260420T051417
CREATED:20250929T201238Z
LAST-MODIFIED:20251030T220123Z
UID:10000239-1865748600-1865754000@rftw.us
SUMMARY:Colorado RFTW Breakfast Get Together
DESCRIPTION:Many RFTW riders from Colorado get together for breakfast\, fellowship and fun EVERY WEDNESDAY at: \nDoug’s Diner\n4330 CO-66\nLongmont\, CO 80504\n(Google Maps) \nhttps://www.dougsdiner.com/ \nIt’s technically an 8AM start\, but people tend to start gathering at 7:30AM. \nFeel free to come any time\, and bring your spouse or partner\, too.
URL:https://rftw.us/event/colorado-rftw-breakfast-get-together-2/2029-02-14/
LOCATION:Doug’s Diner\, 4330 CO-66\, Longmont\, 80504\, United States
ATTACH;FMTTYPE=image/png:https://rftw.us/wp-content/uploads/2024/08/Colorado-State-Flag.png
ORGANIZER;CN="Kirk Olson":MAILTO:kirk.olson@rftw.us
END:VEVENT
BEGIN:VEVENT
DTSTART;TZID=America/Los_Angeles:20290221T073000
DTEND;TZID=America/Los_Angeles:20290221T090000
DTSTAMP:20260420T051417
CREATED:20250929T201238Z
LAST-MODIFIED:20251030T220123Z
UID:10000240-1866353400-1866358800@rftw.us
SUMMARY:Colorado RFTW Breakfast Get Together
DESCRIPTION:Many RFTW riders from Colorado get together for breakfast\, fellowship and fun EVERY WEDNESDAY at: \nDoug’s Diner\n4330 CO-66\nLongmont\, CO 80504\n(Google Maps) \nhttps://www.dougsdiner.com/ \nIt’s technically an 8AM start\, but people tend to start gathering at 7:30AM. \nFeel free to come any time\, and bring your spouse or partner\, too.
URL:https://rftw.us/event/colorado-rftw-breakfast-get-together-2/2029-02-21/
LOCATION:Doug’s Diner\, 4330 CO-66\, Longmont\, 80504\, United States
ATTACH;FMTTYPE=image/png:https://rftw.us/wp-content/uploads/2024/08/Colorado-State-Flag.png
ORGANIZER;CN="Kirk Olson":MAILTO:kirk.olson@rftw.us
END:VEVENT
BEGIN:VEVENT
DTSTART;TZID=America/Los_Angeles:20290224T110000
DTEND;TZID=America/Los_Angeles:20290224T123000
DTSTAMP:20260420T051417
CREATED:20250929T201929Z
LAST-MODIFIED:20250929T201929Z
UID:10000321-1866625200-1866630600@rftw.us
SUMMARY:NorCal Monthly RFTW Meeting
DESCRIPTION:The NorCal RFTW meetup group meets on the 4th Saturday of each month at the Cornerstone Cafe in Sacramento. Come join us to stay in touch with your RFTW family and meet FNG’s to help them succeed.
URL:https://rftw.us/event/norcal-monthly-rftw-meeting-2/2029-02-24/
LOCATION:Cornerstone Cafe\, 1617 Sacramento Ave\, West Sacramento\, CA\, 95605\, United States
ATTACH;FMTTYPE=image/png:https://rftw.us/wp-content/uploads/2024/09/California-State-Flag.png
ORGANIZER;CN="Don 'EZ' Burns":MAILTO:don.burns@rftw.us
END:VEVENT
BEGIN:VEVENT
DTSTART;TZID=America/Los_Angeles:20290228T073000
DTEND;TZID=America/Los_Angeles:20290228T090000
DTSTAMP:20260420T051417
CREATED:20250929T201238Z
LAST-MODIFIED:20251030T220123Z
UID:10000241-1866958200-1866963600@rftw.us
SUMMARY:Colorado RFTW Breakfast Get Together
DESCRIPTION:Many RFTW riders from Colorado get together for breakfast\, fellowship and fun EVERY WEDNESDAY at: \nDoug’s Diner\n4330 CO-66\nLongmont\, CO 80504\n(Google Maps) \nhttps://www.dougsdiner.com/ \nIt’s technically an 8AM start\, but people tend to start gathering at 7:30AM. \nFeel free to come any time\, and bring your spouse or partner\, too.
URL:https://rftw.us/event/colorado-rftw-breakfast-get-together-2/2029-02-28/
LOCATION:Doug’s Diner\, 4330 CO-66\, Longmont\, 80504\, United States
ATTACH;FMTTYPE=image/png:https://rftw.us/wp-content/uploads/2024/08/Colorado-State-Flag.png
ORGANIZER;CN="Kirk Olson":MAILTO:kirk.olson@rftw.us
END:VEVENT
BEGIN:VEVENT
DTSTART;TZID=America/Los_Angeles:20290307T073000
DTEND;TZID=America/Los_Angeles:20290307T090000
DTSTAMP:20260420T051417
CREATED:20250929T201238Z
LAST-MODIFIED:20251030T220123Z
UID:10000242-1867563000-1867568400@rftw.us
SUMMARY:Colorado RFTW Breakfast Get Together
DESCRIPTION:Many RFTW riders from Colorado get together for breakfast\, fellowship and fun EVERY WEDNESDAY at: \nDoug’s Diner\n4330 CO-66\nLongmont\, CO 80504\n(Google Maps) \nhttps://www.dougsdiner.com/ \nIt’s technically an 8AM start\, but people tend to start gathering at 7:30AM. \nFeel free to come any time\, and bring your spouse or partner\, too.
URL:https://rftw.us/event/colorado-rftw-breakfast-get-together-2/2029-03-07/
LOCATION:Doug’s Diner\, 4330 CO-66\, Longmont\, 80504\, United States
ATTACH;FMTTYPE=image/png:https://rftw.us/wp-content/uploads/2024/08/Colorado-State-Flag.png
ORGANIZER;CN="Kirk Olson":MAILTO:kirk.olson@rftw.us
END:VEVENT
BEGIN:VEVENT
DTSTART;TZID=America/Los_Angeles:20290314T073000
DTEND;TZID=America/Los_Angeles:20290314T090000
DTSTAMP:20260420T051417
CREATED:20250929T201238Z
LAST-MODIFIED:20251030T220123Z
UID:10000243-1868167800-1868173200@rftw.us
SUMMARY:Colorado RFTW Breakfast Get Together
DESCRIPTION:Many RFTW riders from Colorado get together for breakfast\, fellowship and fun EVERY WEDNESDAY at: \nDoug’s Diner\n4330 CO-66\nLongmont\, CO 80504\n(Google Maps) \nhttps://www.dougsdiner.com/ \nIt’s technically an 8AM start\, but people tend to start gathering at 7:30AM. \nFeel free to come any time\, and bring your spouse or partner\, too.
URL:https://rftw.us/event/colorado-rftw-breakfast-get-together-2/2029-03-14/
LOCATION:Doug’s Diner\, 4330 CO-66\, Longmont\, 80504\, United States
ATTACH;FMTTYPE=image/png:https://rftw.us/wp-content/uploads/2024/08/Colorado-State-Flag.png
ORGANIZER;CN="Kirk Olson":MAILTO:kirk.olson@rftw.us
END:VEVENT
BEGIN:VEVENT
DTSTART;TZID=America/Los_Angeles:20290321T073000
DTEND;TZID=America/Los_Angeles:20290321T090000
DTSTAMP:20260420T051417
CREATED:20250929T201238Z
LAST-MODIFIED:20251030T220123Z
UID:10000244-1868772600-1868778000@rftw.us
SUMMARY:Colorado RFTW Breakfast Get Together
DESCRIPTION:Many RFTW riders from Colorado get together for breakfast\, fellowship and fun EVERY WEDNESDAY at: \nDoug’s Diner\n4330 CO-66\nLongmont\, CO 80504\n(Google Maps) \nhttps://www.dougsdiner.com/ \nIt’s technically an 8AM start\, but people tend to start gathering at 7:30AM. \nFeel free to come any time\, and bring your spouse or partner\, too.
URL:https://rftw.us/event/colorado-rftw-breakfast-get-together-2/2029-03-21/
LOCATION:Doug’s Diner\, 4330 CO-66\, Longmont\, 80504\, United States
ATTACH;FMTTYPE=image/png:https://rftw.us/wp-content/uploads/2024/08/Colorado-State-Flag.png
ORGANIZER;CN="Kirk Olson":MAILTO:kirk.olson@rftw.us
END:VEVENT
BEGIN:VEVENT
DTSTART;TZID=America/Los_Angeles:20290324T110000
DTEND;TZID=America/Los_Angeles:20290324T123000
DTSTAMP:20260420T051417
CREATED:20250929T201929Z
LAST-MODIFIED:20250929T201929Z
UID:10000322-1869044400-1869049800@rftw.us
SUMMARY:NorCal Monthly RFTW Meeting
DESCRIPTION:The NorCal RFTW meetup group meets on the 4th Saturday of each month at the Cornerstone Cafe in Sacramento. Come join us to stay in touch with your RFTW family and meet FNG’s to help them succeed.
URL:https://rftw.us/event/norcal-monthly-rftw-meeting-2/2029-03-24/
LOCATION:Cornerstone Cafe\, 1617 Sacramento Ave\, West Sacramento\, CA\, 95605\, United States
ATTACH;FMTTYPE=image/png:https://rftw.us/wp-content/uploads/2024/09/California-State-Flag.png
ORGANIZER;CN="Don 'EZ' Burns":MAILTO:don.burns@rftw.us
END:VEVENT
BEGIN:VEVENT
DTSTART;TZID=America/Los_Angeles:20290328T073000
DTEND;TZID=America/Los_Angeles:20290328T090000
DTSTAMP:20260420T051417
CREATED:20250929T201238Z
LAST-MODIFIED:20251030T220123Z
UID:10000245-1869377400-1869382800@rftw.us
SUMMARY:Colorado RFTW Breakfast Get Together
DESCRIPTION:Many RFTW riders from Colorado get together for breakfast\, fellowship and fun EVERY WEDNESDAY at: \nDoug’s Diner\n4330 CO-66\nLongmont\, CO 80504\n(Google Maps) \nhttps://www.dougsdiner.com/ \nIt’s technically an 8AM start\, but people tend to start gathering at 7:30AM. \nFeel free to come any time\, and bring your spouse or partner\, too.
URL:https://rftw.us/event/colorado-rftw-breakfast-get-together-2/2029-03-28/
LOCATION:Doug’s Diner\, 4330 CO-66\, Longmont\, 80504\, United States
ATTACH;FMTTYPE=image/png:https://rftw.us/wp-content/uploads/2024/08/Colorado-State-Flag.png
ORGANIZER;CN="Kirk Olson":MAILTO:kirk.olson@rftw.us
END:VEVENT
BEGIN:VEVENT
DTSTART;TZID=America/Los_Angeles:20290404T073000
DTEND;TZID=America/Los_Angeles:20290404T090000
DTSTAMP:20260420T051417
CREATED:20250929T201238Z
LAST-MODIFIED:20251030T220123Z
UID:10000246-1869982200-1869987600@rftw.us
SUMMARY:Colorado RFTW Breakfast Get Together
DESCRIPTION:Many RFTW riders from Colorado get together for breakfast\, fellowship and fun EVERY WEDNESDAY at: \nDoug’s Diner\n4330 CO-66\nLongmont\, CO 80504\n(Google Maps) \nhttps://www.dougsdiner.com/ \nIt’s technically an 8AM start\, but people tend to start gathering at 7:30AM. \nFeel free to come any time\, and bring your spouse or partner\, too.
URL:https://rftw.us/event/colorado-rftw-breakfast-get-together-2/2029-04-04/
LOCATION:Doug’s Diner\, 4330 CO-66\, Longmont\, 80504\, United States
ATTACH;FMTTYPE=image/png:https://rftw.us/wp-content/uploads/2024/08/Colorado-State-Flag.png
ORGANIZER;CN="Kirk Olson":MAILTO:kirk.olson@rftw.us
END:VEVENT
BEGIN:VEVENT
DTSTART;TZID=America/Los_Angeles:20290411T073000
DTEND;TZID=America/Los_Angeles:20290411T090000
DTSTAMP:20260420T051417
CREATED:20250929T201238Z
LAST-MODIFIED:20251030T220123Z
UID:10000247-1870587000-1870592400@rftw.us
SUMMARY:Colorado RFTW Breakfast Get Together
DESCRIPTION:Many RFTW riders from Colorado get together for breakfast\, fellowship and fun EVERY WEDNESDAY at: \nDoug’s Diner\n4330 CO-66\nLongmont\, CO 80504\n(Google Maps) \nhttps://www.dougsdiner.com/ \nIt’s technically an 8AM start\, but people tend to start gathering at 7:30AM. \nFeel free to come any time\, and bring your spouse or partner\, too.
URL:https://rftw.us/event/colorado-rftw-breakfast-get-together-2/2029-04-11/
LOCATION:Doug’s Diner\, 4330 CO-66\, Longmont\, 80504\, United States
ATTACH;FMTTYPE=image/png:https://rftw.us/wp-content/uploads/2024/08/Colorado-State-Flag.png
ORGANIZER;CN="Kirk Olson":MAILTO:kirk.olson@rftw.us
END:VEVENT
BEGIN:VEVENT
DTSTART;TZID=America/Los_Angeles:20290418T073000
DTEND;TZID=America/Los_Angeles:20290418T090000
DTSTAMP:20260420T051417
CREATED:20250929T201238Z
LAST-MODIFIED:20251030T220123Z
UID:10000248-1871191800-1871197200@rftw.us
SUMMARY:Colorado RFTW Breakfast Get Together
DESCRIPTION:Many RFTW riders from Colorado get together for breakfast\, fellowship and fun EVERY WEDNESDAY at: \nDoug’s Diner\n4330 CO-66\nLongmont\, CO 80504\n(Google Maps) \nhttps://www.dougsdiner.com/ \nIt’s technically an 8AM start\, but people tend to start gathering at 7:30AM. \nFeel free to come any time\, and bring your spouse or partner\, too.
URL:https://rftw.us/event/colorado-rftw-breakfast-get-together-2/2029-04-18/
LOCATION:Doug’s Diner\, 4330 CO-66\, Longmont\, 80504\, United States
ATTACH;FMTTYPE=image/png:https://rftw.us/wp-content/uploads/2024/08/Colorado-State-Flag.png
ORGANIZER;CN="Kirk Olson":MAILTO:kirk.olson@rftw.us
END:VEVENT
BEGIN:VEVENT
DTSTART;TZID=America/Los_Angeles:20290425T073000
DTEND;TZID=America/Los_Angeles:20290425T090000
DTSTAMP:20260420T051417
CREATED:20250929T201238Z
LAST-MODIFIED:20251030T220123Z
UID:10000249-1871796600-1871802000@rftw.us
SUMMARY:Colorado RFTW Breakfast Get Together
DESCRIPTION:Many RFTW riders from Colorado get together for breakfast\, fellowship and fun EVERY WEDNESDAY at: \nDoug’s Diner\n4330 CO-66\nLongmont\, CO 80504\n(Google Maps) \nhttps://www.dougsdiner.com/ \nIt’s technically an 8AM start\, but people tend to start gathering at 7:30AM. \nFeel free to come any time\, and bring your spouse or partner\, too.
URL:https://rftw.us/event/colorado-rftw-breakfast-get-together-2/2029-04-25/
LOCATION:Doug’s Diner\, 4330 CO-66\, Longmont\, 80504\, United States
ATTACH;FMTTYPE=image/png:https://rftw.us/wp-content/uploads/2024/08/Colorado-State-Flag.png
ORGANIZER;CN="Kirk Olson":MAILTO:kirk.olson@rftw.us
END:VEVENT
BEGIN:VEVENT
DTSTART;TZID=America/Los_Angeles:20290428T110000
DTEND;TZID=America/Los_Angeles:20290428T123000
DTSTAMP:20260420T051417
CREATED:20250929T201929Z
LAST-MODIFIED:20250929T201929Z
UID:10000323-1872068400-1872073800@rftw.us
SUMMARY:NorCal Monthly RFTW Meeting
DESCRIPTION:The NorCal RFTW meetup group meets on the 4th Saturday of each month at the Cornerstone Cafe in Sacramento. Come join us to stay in touch with your RFTW family and meet FNG’s to help them succeed.
URL:https://rftw.us/event/norcal-monthly-rftw-meeting-2/2029-04-28/
LOCATION:Cornerstone Cafe\, 1617 Sacramento Ave\, West Sacramento\, CA\, 95605\, United States
ATTACH;FMTTYPE=image/png:https://rftw.us/wp-content/uploads/2024/09/California-State-Flag.png
ORGANIZER;CN="Don 'EZ' Burns":MAILTO:don.burns@rftw.us
END:VEVENT
BEGIN:VEVENT
DTSTART;TZID=America/Los_Angeles:20290502T073000
DTEND;TZID=America/Los_Angeles:20290502T090000
DTSTAMP:20260420T051417
CREATED:20250929T201238Z
LAST-MODIFIED:20251030T220123Z
UID:10000250-1872401400-1872406800@rftw.us
SUMMARY:Colorado RFTW Breakfast Get Together
DESCRIPTION:Many RFTW riders from Colorado get together for breakfast\, fellowship and fun EVERY WEDNESDAY at: \nDoug’s Diner\n4330 CO-66\nLongmont\, CO 80504\n(Google Maps) \nhttps://www.dougsdiner.com/ \nIt’s technically an 8AM start\, but people tend to start gathering at 7:30AM. \nFeel free to come any time\, and bring your spouse or partner\, too.
URL:https://rftw.us/event/colorado-rftw-breakfast-get-together-2/2029-05-02/
LOCATION:Doug’s Diner\, 4330 CO-66\, Longmont\, 80504\, United States
ATTACH;FMTTYPE=image/png:https://rftw.us/wp-content/uploads/2024/08/Colorado-State-Flag.png
ORGANIZER;CN="Kirk Olson":MAILTO:kirk.olson@rftw.us
END:VEVENT
BEGIN:VEVENT
DTSTART;TZID=America/Los_Angeles:20290509T073000
DTEND;TZID=America/Los_Angeles:20290509T090000
DTSTAMP:20260420T051417
CREATED:20250929T201238Z
LAST-MODIFIED:20251030T220123Z
UID:10000251-1873006200-1873011600@rftw.us
SUMMARY:Colorado RFTW Breakfast Get Together
DESCRIPTION:Many RFTW riders from Colorado get together for breakfast\, fellowship and fun EVERY WEDNESDAY at: \nDoug’s Diner\n4330 CO-66\nLongmont\, CO 80504\n(Google Maps) \nhttps://www.dougsdiner.com/ \nIt’s technically an 8AM start\, but people tend to start gathering at 7:30AM. \nFeel free to come any time\, and bring your spouse or partner\, too.
URL:https://rftw.us/event/colorado-rftw-breakfast-get-together-2/2029-05-09/
LOCATION:Doug’s Diner\, 4330 CO-66\, Longmont\, 80504\, United States
ATTACH;FMTTYPE=image/png:https://rftw.us/wp-content/uploads/2024/08/Colorado-State-Flag.png
ORGANIZER;CN="Kirk Olson":MAILTO:kirk.olson@rftw.us
END:VEVENT
BEGIN:VEVENT
DTSTART;TZID=America/Los_Angeles:20290516T073000
DTEND;TZID=America/Los_Angeles:20290516T090000
DTSTAMP:20260420T051417
CREATED:20250929T201238Z
LAST-MODIFIED:20251030T220123Z
UID:10000252-1873611000-1873616400@rftw.us
SUMMARY:Colorado RFTW Breakfast Get Together
DESCRIPTION:Many RFTW riders from Colorado get together for breakfast\, fellowship and fun EVERY WEDNESDAY at: \nDoug’s Diner\n4330 CO-66\nLongmont\, CO 80504\n(Google Maps) \nhttps://www.dougsdiner.com/ \nIt’s technically an 8AM start\, but people tend to start gathering at 7:30AM. \nFeel free to come any time\, and bring your spouse or partner\, too.
URL:https://rftw.us/event/colorado-rftw-breakfast-get-together-2/2029-05-16/
LOCATION:Doug’s Diner\, 4330 CO-66\, Longmont\, 80504\, United States
ATTACH;FMTTYPE=image/png:https://rftw.us/wp-content/uploads/2024/08/Colorado-State-Flag.png
ORGANIZER;CN="Kirk Olson":MAILTO:kirk.olson@rftw.us
END:VEVENT
END:VCALENDAR