BEGIN:VCALENDAR
VERSION:2.0
PRODID:-//Run For The Wall® - ECPv6.15.20//NONSGML v1.0//EN
CALSCALE:GREGORIAN
METHOD:PUBLISH
X-WR-CALNAME:Run For The Wall®
X-ORIGINAL-URL:https://rftw.us
X-WR-CALDESC:Events for Run For The Wall®
REFRESH-INTERVAL;VALUE=DURATION:PT1H
X-Robots-Tag:noindex
X-PUBLISHED-TTL:PT1H
BEGIN:VTIMEZONE
TZID:America/Los_Angeles
BEGIN:DAYLIGHT
TZOFFSETFROM:-0800
TZOFFSETTO:-0700
TZNAME:PDT
DTSTART:20280312T100000
END:DAYLIGHT
BEGIN:STANDARD
TZOFFSETFROM:-0700
TZOFFSETTO:-0800
TZNAME:PST
DTSTART:20281105T090000
END:STANDARD
BEGIN:DAYLIGHT
TZOFFSETFROM:-0800
TZOFFSETTO:-0700
TZNAME:PDT
DTSTART:20290311T100000
END:DAYLIGHT
BEGIN:STANDARD
TZOFFSETFROM:-0700
TZOFFSETTO:-0800
TZNAME:PST
DTSTART:20291104T090000
END:STANDARD
BEGIN:DAYLIGHT
TZOFFSETFROM:-0800
TZOFFSETTO:-0700
TZNAME:PDT
DTSTART:20300310T100000
END:DAYLIGHT
BEGIN:STANDARD
TZOFFSETFROM:-0700
TZOFFSETTO:-0800
TZNAME:PST
DTSTART:20301103T090000
END:STANDARD
END:VTIMEZONE
BEGIN:VEVENT
DTSTART;TZID=America/Los_Angeles:20290627T073000
DTEND;TZID=America/Los_Angeles:20290627T090000
DTSTAMP:20260424T050125
CREATED:20250929T201238Z
LAST-MODIFIED:20251030T220123Z
UID:10000258-1877239800-1877245200@rftw.us
SUMMARY:Colorado RFTW Breakfast Get Together
DESCRIPTION:Many RFTW riders from Colorado get together for breakfast\, fellowship and fun EVERY WEDNESDAY at: \nDoug’s Diner\n4330 CO-66\nLongmont\, CO 80504\n(Google Maps) \nhttps://www.dougsdiner.com/ \nIt’s technically an 8AM start\, but people tend to start gathering at 7:30AM. \nFeel free to come any time\, and bring your spouse or partner\, too.
URL:https://rftw.us/event/colorado-rftw-breakfast-get-together-2/2029-06-27/
LOCATION:Doug’s Diner\, 4330 CO-66\, Longmont\, 80504\, United States
ATTACH;FMTTYPE=image/png:https://rftw.us/wp-content/uploads/2024/08/Colorado-State-Flag.png
ORGANIZER;CN="Kirk Olson":MAILTO:kirk.olson@rftw.us
END:VEVENT
BEGIN:VEVENT
DTSTART;TZID=America/Los_Angeles:20290704T073000
DTEND;TZID=America/Los_Angeles:20290704T090000
DTSTAMP:20260424T050125
CREATED:20250929T201238Z
LAST-MODIFIED:20251030T220123Z
UID:10000259-1877844600-1877850000@rftw.us
SUMMARY:Colorado RFTW Breakfast Get Together
DESCRIPTION:Many RFTW riders from Colorado get together for breakfast\, fellowship and fun EVERY WEDNESDAY at: \nDoug’s Diner\n4330 CO-66\nLongmont\, CO 80504\n(Google Maps) \nhttps://www.dougsdiner.com/ \nIt’s technically an 8AM start\, but people tend to start gathering at 7:30AM. \nFeel free to come any time\, and bring your spouse or partner\, too.
URL:https://rftw.us/event/colorado-rftw-breakfast-get-together-2/2029-07-04/
LOCATION:Doug’s Diner\, 4330 CO-66\, Longmont\, 80504\, United States
ATTACH;FMTTYPE=image/png:https://rftw.us/wp-content/uploads/2024/08/Colorado-State-Flag.png
ORGANIZER;CN="Kirk Olson":MAILTO:kirk.olson@rftw.us
END:VEVENT
BEGIN:VEVENT
DTSTART;TZID=America/Los_Angeles:20290711T073000
DTEND;TZID=America/Los_Angeles:20290711T090000
DTSTAMP:20260424T050125
CREATED:20250929T201238Z
LAST-MODIFIED:20251030T220123Z
UID:10000260-1878449400-1878454800@rftw.us
SUMMARY:Colorado RFTW Breakfast Get Together
DESCRIPTION:Many RFTW riders from Colorado get together for breakfast\, fellowship and fun EVERY WEDNESDAY at: \nDoug’s Diner\n4330 CO-66\nLongmont\, CO 80504\n(Google Maps) \nhttps://www.dougsdiner.com/ \nIt’s technically an 8AM start\, but people tend to start gathering at 7:30AM. \nFeel free to come any time\, and bring your spouse or partner\, too.
URL:https://rftw.us/event/colorado-rftw-breakfast-get-together-2/2029-07-11/
LOCATION:Doug’s Diner\, 4330 CO-66\, Longmont\, 80504\, United States
ATTACH;FMTTYPE=image/png:https://rftw.us/wp-content/uploads/2024/08/Colorado-State-Flag.png
ORGANIZER;CN="Kirk Olson":MAILTO:kirk.olson@rftw.us
END:VEVENT
BEGIN:VEVENT
DTSTART;TZID=America/Los_Angeles:20290718T073000
DTEND;TZID=America/Los_Angeles:20290718T090000
DTSTAMP:20260424T050125
CREATED:20250929T201238Z
LAST-MODIFIED:20251030T220123Z
UID:10000261-1879054200-1879059600@rftw.us
SUMMARY:Colorado RFTW Breakfast Get Together
DESCRIPTION:Many RFTW riders from Colorado get together for breakfast\, fellowship and fun EVERY WEDNESDAY at: \nDoug’s Diner\n4330 CO-66\nLongmont\, CO 80504\n(Google Maps) \nhttps://www.dougsdiner.com/ \nIt’s technically an 8AM start\, but people tend to start gathering at 7:30AM. \nFeel free to come any time\, and bring your spouse or partner\, too.
URL:https://rftw.us/event/colorado-rftw-breakfast-get-together-2/2029-07-18/
LOCATION:Doug’s Diner\, 4330 CO-66\, Longmont\, 80504\, United States
ATTACH;FMTTYPE=image/png:https://rftw.us/wp-content/uploads/2024/08/Colorado-State-Flag.png
ORGANIZER;CN="Kirk Olson":MAILTO:kirk.olson@rftw.us
END:VEVENT
BEGIN:VEVENT
DTSTART;TZID=America/Los_Angeles:20290725T073000
DTEND;TZID=America/Los_Angeles:20290725T090000
DTSTAMP:20260424T050125
CREATED:20250929T201238Z
LAST-MODIFIED:20251030T220123Z
UID:10000262-1879659000-1879664400@rftw.us
SUMMARY:Colorado RFTW Breakfast Get Together
DESCRIPTION:Many RFTW riders from Colorado get together for breakfast\, fellowship and fun EVERY WEDNESDAY at: \nDoug’s Diner\n4330 CO-66\nLongmont\, CO 80504\n(Google Maps) \nhttps://www.dougsdiner.com/ \nIt’s technically an 8AM start\, but people tend to start gathering at 7:30AM. \nFeel free to come any time\, and bring your spouse or partner\, too.
URL:https://rftw.us/event/colorado-rftw-breakfast-get-together-2/2029-07-25/
LOCATION:Doug’s Diner\, 4330 CO-66\, Longmont\, 80504\, United States
ATTACH;FMTTYPE=image/png:https://rftw.us/wp-content/uploads/2024/08/Colorado-State-Flag.png
ORGANIZER;CN="Kirk Olson":MAILTO:kirk.olson@rftw.us
END:VEVENT
BEGIN:VEVENT
DTSTART;TZID=America/Los_Angeles:20290728T110000
DTEND;TZID=America/Los_Angeles:20290728T123000
DTSTAMP:20260424T050125
CREATED:20250929T201929Z
LAST-MODIFIED:20250929T201929Z
UID:10000326-1879930800-1879936200@rftw.us
SUMMARY:NorCal Monthly RFTW Meeting
DESCRIPTION:The NorCal RFTW meetup group meets on the 4th Saturday of each month at the Cornerstone Cafe in Sacramento. Come join us to stay in touch with your RFTW family and meet FNG’s to help them succeed.
URL:https://rftw.us/event/norcal-monthly-rftw-meeting-2/2029-07-28/
LOCATION:Cornerstone Cafe\, 1617 Sacramento Ave\, West Sacramento\, CA\, 95605\, United States
ATTACH;FMTTYPE=image/png:https://rftw.us/wp-content/uploads/2024/09/California-State-Flag.png
ORGANIZER;CN="Don 'EZ' Burns":MAILTO:don.burns@rftw.us
END:VEVENT
BEGIN:VEVENT
DTSTART;TZID=America/Los_Angeles:20290801T073000
DTEND;TZID=America/Los_Angeles:20290801T090000
DTSTAMP:20260424T050125
CREATED:20250929T201238Z
LAST-MODIFIED:20251030T220123Z
UID:10000263-1880263800-1880269200@rftw.us
SUMMARY:Colorado RFTW Breakfast Get Together
DESCRIPTION:Many RFTW riders from Colorado get together for breakfast\, fellowship and fun EVERY WEDNESDAY at: \nDoug’s Diner\n4330 CO-66\nLongmont\, CO 80504\n(Google Maps) \nhttps://www.dougsdiner.com/ \nIt’s technically an 8AM start\, but people tend to start gathering at 7:30AM. \nFeel free to come any time\, and bring your spouse or partner\, too.
URL:https://rftw.us/event/colorado-rftw-breakfast-get-together-2/2029-08-01/
LOCATION:Doug’s Diner\, 4330 CO-66\, Longmont\, 80504\, United States
ATTACH;FMTTYPE=image/png:https://rftw.us/wp-content/uploads/2024/08/Colorado-State-Flag.png
ORGANIZER;CN="Kirk Olson":MAILTO:kirk.olson@rftw.us
END:VEVENT
BEGIN:VEVENT
DTSTART;TZID=America/Los_Angeles:20290808T073000
DTEND;TZID=America/Los_Angeles:20290808T090000
DTSTAMP:20260424T050125
CREATED:20250929T201238Z
LAST-MODIFIED:20251030T220123Z
UID:10000337-1880868600-1880874000@rftw.us
SUMMARY:Colorado RFTW Breakfast Get Together
DESCRIPTION:Many RFTW riders from Colorado get together for breakfast\, fellowship and fun EVERY WEDNESDAY at: \nDoug’s Diner\n4330 CO-66\nLongmont\, CO 80504\n(Google Maps) \nhttps://www.dougsdiner.com/ \nIt’s technically an 8AM start\, but people tend to start gathering at 7:30AM. \nFeel free to come any time\, and bring your spouse or partner\, too.
URL:https://rftw.us/event/colorado-rftw-breakfast-get-together-2/2029-08-08/
LOCATION:Doug’s Diner\, 4330 CO-66\, Longmont\, 80504\, United States
ATTACH;FMTTYPE=image/png:https://rftw.us/wp-content/uploads/2024/08/Colorado-State-Flag.png
ORGANIZER;CN="Kirk Olson":MAILTO:kirk.olson@rftw.us
END:VEVENT
BEGIN:VEVENT
DTSTART;TZID=America/Los_Angeles:20290815T073000
DTEND;TZID=America/Los_Angeles:20290815T090000
DTSTAMP:20260424T050125
CREATED:20250929T201238Z
LAST-MODIFIED:20251030T220123Z
UID:10000338-1881473400-1881478800@rftw.us
SUMMARY:Colorado RFTW Breakfast Get Together
DESCRIPTION:Many RFTW riders from Colorado get together for breakfast\, fellowship and fun EVERY WEDNESDAY at: \nDoug’s Diner\n4330 CO-66\nLongmont\, CO 80504\n(Google Maps) \nhttps://www.dougsdiner.com/ \nIt’s technically an 8AM start\, but people tend to start gathering at 7:30AM. \nFeel free to come any time\, and bring your spouse or partner\, too.
URL:https://rftw.us/event/colorado-rftw-breakfast-get-together-2/2029-08-15/
LOCATION:Doug’s Diner\, 4330 CO-66\, Longmont\, 80504\, United States
ATTACH;FMTTYPE=image/png:https://rftw.us/wp-content/uploads/2024/08/Colorado-State-Flag.png
ORGANIZER;CN="Kirk Olson":MAILTO:kirk.olson@rftw.us
END:VEVENT
BEGIN:VEVENT
DTSTART;TZID=America/Los_Angeles:20290822T073000
DTEND;TZID=America/Los_Angeles:20290822T090000
DTSTAMP:20260424T050125
CREATED:20250929T201238Z
LAST-MODIFIED:20251030T220123Z
UID:10000339-1882078200-1882083600@rftw.us
SUMMARY:Colorado RFTW Breakfast Get Together
DESCRIPTION:Many RFTW riders from Colorado get together for breakfast\, fellowship and fun EVERY WEDNESDAY at: \nDoug’s Diner\n4330 CO-66\nLongmont\, CO 80504\n(Google Maps) \nhttps://www.dougsdiner.com/ \nIt’s technically an 8AM start\, but people tend to start gathering at 7:30AM. \nFeel free to come any time\, and bring your spouse or partner\, too.
URL:https://rftw.us/event/colorado-rftw-breakfast-get-together-2/2029-08-22/
LOCATION:Doug’s Diner\, 4330 CO-66\, Longmont\, 80504\, United States
ATTACH;FMTTYPE=image/png:https://rftw.us/wp-content/uploads/2024/08/Colorado-State-Flag.png
ORGANIZER;CN="Kirk Olson":MAILTO:kirk.olson@rftw.us
END:VEVENT
BEGIN:VEVENT
DTSTART;TZID=America/Los_Angeles:20290825T110000
DTEND;TZID=America/Los_Angeles:20290825T123000
DTSTAMP:20260424T050125
CREATED:20250929T201929Z
LAST-MODIFIED:20250929T201929Z
UID:10000327-1882350000-1882355400@rftw.us
SUMMARY:NorCal Monthly RFTW Meeting
DESCRIPTION:The NorCal RFTW meetup group meets on the 4th Saturday of each month at the Cornerstone Cafe in Sacramento. Come join us to stay in touch with your RFTW family and meet FNG’s to help them succeed.
URL:https://rftw.us/event/norcal-monthly-rftw-meeting-2/2029-08-25/
LOCATION:Cornerstone Cafe\, 1617 Sacramento Ave\, West Sacramento\, CA\, 95605\, United States
ATTACH;FMTTYPE=image/png:https://rftw.us/wp-content/uploads/2024/09/California-State-Flag.png
ORGANIZER;CN="Don 'EZ' Burns":MAILTO:don.burns@rftw.us
END:VEVENT
BEGIN:VEVENT
DTSTART;TZID=America/Los_Angeles:20290829T073000
DTEND;TZID=America/Los_Angeles:20290829T090000
DTSTAMP:20260424T050125
CREATED:20250929T201238Z
LAST-MODIFIED:20251030T220123Z
UID:10000340-1882683000-1882688400@rftw.us
SUMMARY:Colorado RFTW Breakfast Get Together
DESCRIPTION:Many RFTW riders from Colorado get together for breakfast\, fellowship and fun EVERY WEDNESDAY at: \nDoug’s Diner\n4330 CO-66\nLongmont\, CO 80504\n(Google Maps) \nhttps://www.dougsdiner.com/ \nIt’s technically an 8AM start\, but people tend to start gathering at 7:30AM. \nFeel free to come any time\, and bring your spouse or partner\, too.
URL:https://rftw.us/event/colorado-rftw-breakfast-get-together-2/2029-08-29/
LOCATION:Doug’s Diner\, 4330 CO-66\, Longmont\, 80504\, United States
ATTACH;FMTTYPE=image/png:https://rftw.us/wp-content/uploads/2024/08/Colorado-State-Flag.png
ORGANIZER;CN="Kirk Olson":MAILTO:kirk.olson@rftw.us
END:VEVENT
BEGIN:VEVENT
DTSTART;TZID=America/Los_Angeles:20290905T073000
DTEND;TZID=America/Los_Angeles:20290905T090000
DTSTAMP:20260424T050125
CREATED:20250929T201238Z
LAST-MODIFIED:20251030T220123Z
UID:10000341-1883287800-1883293200@rftw.us
SUMMARY:Colorado RFTW Breakfast Get Together
DESCRIPTION:Many RFTW riders from Colorado get together for breakfast\, fellowship and fun EVERY WEDNESDAY at: \nDoug’s Diner\n4330 CO-66\nLongmont\, CO 80504\n(Google Maps) \nhttps://www.dougsdiner.com/ \nIt’s technically an 8AM start\, but people tend to start gathering at 7:30AM. \nFeel free to come any time\, and bring your spouse or partner\, too.
URL:https://rftw.us/event/colorado-rftw-breakfast-get-together-2/2029-09-05/
LOCATION:Doug’s Diner\, 4330 CO-66\, Longmont\, 80504\, United States
ATTACH;FMTTYPE=image/png:https://rftw.us/wp-content/uploads/2024/08/Colorado-State-Flag.png
ORGANIZER;CN="Kirk Olson":MAILTO:kirk.olson@rftw.us
END:VEVENT
BEGIN:VEVENT
DTSTART;TZID=America/Los_Angeles:20290912T073000
DTEND;TZID=America/Los_Angeles:20290912T090000
DTSTAMP:20260424T050125
CREATED:20250929T201238Z
LAST-MODIFIED:20251030T220123Z
UID:10000342-1883892600-1883898000@rftw.us
SUMMARY:Colorado RFTW Breakfast Get Together
DESCRIPTION:Many RFTW riders from Colorado get together for breakfast\, fellowship and fun EVERY WEDNESDAY at: \nDoug’s Diner\n4330 CO-66\nLongmont\, CO 80504\n(Google Maps) \nhttps://www.dougsdiner.com/ \nIt’s technically an 8AM start\, but people tend to start gathering at 7:30AM. \nFeel free to come any time\, and bring your spouse or partner\, too.
URL:https://rftw.us/event/colorado-rftw-breakfast-get-together-2/2029-09-12/
LOCATION:Doug’s Diner\, 4330 CO-66\, Longmont\, 80504\, United States
ATTACH;FMTTYPE=image/png:https://rftw.us/wp-content/uploads/2024/08/Colorado-State-Flag.png
ORGANIZER;CN="Kirk Olson":MAILTO:kirk.olson@rftw.us
END:VEVENT
BEGIN:VEVENT
DTSTART;TZID=America/Los_Angeles:20290919T073000
DTEND;TZID=America/Los_Angeles:20290919T090000
DTSTAMP:20260424T050125
CREATED:20250929T201238Z
LAST-MODIFIED:20251030T220123Z
UID:10000343-1884497400-1884502800@rftw.us
SUMMARY:Colorado RFTW Breakfast Get Together
DESCRIPTION:Many RFTW riders from Colorado get together for breakfast\, fellowship and fun EVERY WEDNESDAY at: \nDoug’s Diner\n4330 CO-66\nLongmont\, CO 80504\n(Google Maps) \nhttps://www.dougsdiner.com/ \nIt’s technically an 8AM start\, but people tend to start gathering at 7:30AM. \nFeel free to come any time\, and bring your spouse or partner\, too.
URL:https://rftw.us/event/colorado-rftw-breakfast-get-together-2/2029-09-19/
LOCATION:Doug’s Diner\, 4330 CO-66\, Longmont\, 80504\, United States
ATTACH;FMTTYPE=image/png:https://rftw.us/wp-content/uploads/2024/08/Colorado-State-Flag.png
ORGANIZER;CN="Kirk Olson":MAILTO:kirk.olson@rftw.us
END:VEVENT
BEGIN:VEVENT
DTSTART;TZID=America/Los_Angeles:20290922T110000
DTEND;TZID=America/Los_Angeles:20290922T123000
DTSTAMP:20260424T050125
CREATED:20250929T201929Z
LAST-MODIFIED:20250929T201929Z
UID:10000328-1884769200-1884774600@rftw.us
SUMMARY:NorCal Monthly RFTW Meeting
DESCRIPTION:The NorCal RFTW meetup group meets on the 4th Saturday of each month at the Cornerstone Cafe in Sacramento. Come join us to stay in touch with your RFTW family and meet FNG’s to help them succeed.
URL:https://rftw.us/event/norcal-monthly-rftw-meeting-2/2029-09-22/
LOCATION:Cornerstone Cafe\, 1617 Sacramento Ave\, West Sacramento\, CA\, 95605\, United States
ATTACH;FMTTYPE=image/png:https://rftw.us/wp-content/uploads/2024/09/California-State-Flag.png
ORGANIZER;CN="Don 'EZ' Burns":MAILTO:don.burns@rftw.us
END:VEVENT
BEGIN:VEVENT
DTSTART;TZID=America/Los_Angeles:20290926T073000
DTEND;TZID=America/Los_Angeles:20290926T090000
DTSTAMP:20260424T050125
CREATED:20250929T201238Z
LAST-MODIFIED:20251030T220123Z
UID:10000344-1885102200-1885107600@rftw.us
SUMMARY:Colorado RFTW Breakfast Get Together
DESCRIPTION:Many RFTW riders from Colorado get together for breakfast\, fellowship and fun EVERY WEDNESDAY at: \nDoug’s Diner\n4330 CO-66\nLongmont\, CO 80504\n(Google Maps) \nhttps://www.dougsdiner.com/ \nIt’s technically an 8AM start\, but people tend to start gathering at 7:30AM. \nFeel free to come any time\, and bring your spouse or partner\, too.
URL:https://rftw.us/event/colorado-rftw-breakfast-get-together-2/2029-09-26/
LOCATION:Doug’s Diner\, 4330 CO-66\, Longmont\, 80504\, United States
ATTACH;FMTTYPE=image/png:https://rftw.us/wp-content/uploads/2024/08/Colorado-State-Flag.png
ORGANIZER;CN="Kirk Olson":MAILTO:kirk.olson@rftw.us
END:VEVENT
BEGIN:VEVENT
DTSTART;TZID=America/Los_Angeles:20291003T073000
DTEND;TZID=America/Los_Angeles:20291003T090000
DTSTAMP:20260424T050125
CREATED:20250929T201238Z
LAST-MODIFIED:20251030T220123Z
UID:10000345-1885707000-1885712400@rftw.us
SUMMARY:Colorado RFTW Breakfast Get Together
DESCRIPTION:Many RFTW riders from Colorado get together for breakfast\, fellowship and fun EVERY WEDNESDAY at: \nDoug’s Diner\n4330 CO-66\nLongmont\, CO 80504\n(Google Maps) \nhttps://www.dougsdiner.com/ \nIt’s technically an 8AM start\, but people tend to start gathering at 7:30AM. \nFeel free to come any time\, and bring your spouse or partner\, too.
URL:https://rftw.us/event/colorado-rftw-breakfast-get-together-2/2029-10-03/
LOCATION:Doug’s Diner\, 4330 CO-66\, Longmont\, 80504\, United States
ATTACH;FMTTYPE=image/png:https://rftw.us/wp-content/uploads/2024/08/Colorado-State-Flag.png
ORGANIZER;CN="Kirk Olson":MAILTO:kirk.olson@rftw.us
END:VEVENT
BEGIN:VEVENT
DTSTART;TZID=America/Los_Angeles:20291010T073000
DTEND;TZID=America/Los_Angeles:20291010T090000
DTSTAMP:20260424T050125
CREATED:20250929T201238Z
LAST-MODIFIED:20251030T220123Z
UID:10000346-1886311800-1886317200@rftw.us
SUMMARY:Colorado RFTW Breakfast Get Together
DESCRIPTION:Many RFTW riders from Colorado get together for breakfast\, fellowship and fun EVERY WEDNESDAY at: \nDoug’s Diner\n4330 CO-66\nLongmont\, CO 80504\n(Google Maps) \nhttps://www.dougsdiner.com/ \nIt’s technically an 8AM start\, but people tend to start gathering at 7:30AM. \nFeel free to come any time\, and bring your spouse or partner\, too.
URL:https://rftw.us/event/colorado-rftw-breakfast-get-together-2/2029-10-10/
LOCATION:Doug’s Diner\, 4330 CO-66\, Longmont\, 80504\, United States
ATTACH;FMTTYPE=image/png:https://rftw.us/wp-content/uploads/2024/08/Colorado-State-Flag.png
ORGANIZER;CN="Kirk Olson":MAILTO:kirk.olson@rftw.us
END:VEVENT
BEGIN:VEVENT
DTSTART;TZID=America/Los_Angeles:20291017T073000
DTEND;TZID=America/Los_Angeles:20291017T090000
DTSTAMP:20260424T050125
CREATED:20250929T201238Z
LAST-MODIFIED:20251030T220123Z
UID:10000347-1886916600-1886922000@rftw.us
SUMMARY:Colorado RFTW Breakfast Get Together
DESCRIPTION:Many RFTW riders from Colorado get together for breakfast\, fellowship and fun EVERY WEDNESDAY at: \nDoug’s Diner\n4330 CO-66\nLongmont\, CO 80504\n(Google Maps) \nhttps://www.dougsdiner.com/ \nIt’s technically an 8AM start\, but people tend to start gathering at 7:30AM. \nFeel free to come any time\, and bring your spouse or partner\, too.
URL:https://rftw.us/event/colorado-rftw-breakfast-get-together-2/2029-10-17/
LOCATION:Doug’s Diner\, 4330 CO-66\, Longmont\, 80504\, United States
ATTACH;FMTTYPE=image/png:https://rftw.us/wp-content/uploads/2024/08/Colorado-State-Flag.png
ORGANIZER;CN="Kirk Olson":MAILTO:kirk.olson@rftw.us
END:VEVENT
BEGIN:VEVENT
DTSTART;TZID=America/Los_Angeles:20291024T073000
DTEND;TZID=America/Los_Angeles:20291024T090000
DTSTAMP:20260424T050125
CREATED:20250929T201238Z
LAST-MODIFIED:20251030T220123Z
UID:10000348-1887521400-1887526800@rftw.us
SUMMARY:Colorado RFTW Breakfast Get Together
DESCRIPTION:Many RFTW riders from Colorado get together for breakfast\, fellowship and fun EVERY WEDNESDAY at: \nDoug’s Diner\n4330 CO-66\nLongmont\, CO 80504\n(Google Maps) \nhttps://www.dougsdiner.com/ \nIt’s technically an 8AM start\, but people tend to start gathering at 7:30AM. \nFeel free to come any time\, and bring your spouse or partner\, too.
URL:https://rftw.us/event/colorado-rftw-breakfast-get-together-2/2029-10-24/
LOCATION:Doug’s Diner\, 4330 CO-66\, Longmont\, 80504\, United States
ATTACH;FMTTYPE=image/png:https://rftw.us/wp-content/uploads/2024/08/Colorado-State-Flag.png
ORGANIZER;CN="Kirk Olson":MAILTO:kirk.olson@rftw.us
END:VEVENT
BEGIN:VEVENT
DTSTART;TZID=America/Los_Angeles:20291027T110000
DTEND;TZID=America/Los_Angeles:20291027T123000
DTSTAMP:20260424T050125
CREATED:20250929T201929Z
LAST-MODIFIED:20250929T201929Z
UID:10000398-1887793200-1887798600@rftw.us
SUMMARY:NorCal Monthly RFTW Meeting
DESCRIPTION:The NorCal RFTW meetup group meets on the 4th Saturday of each month at the Cornerstone Cafe in Sacramento. Come join us to stay in touch with your RFTW family and meet FNG’s to help them succeed.
URL:https://rftw.us/event/norcal-monthly-rftw-meeting-2/2029-10-27/
LOCATION:Cornerstone Cafe\, 1617 Sacramento Ave\, West Sacramento\, CA\, 95605\, United States
ATTACH;FMTTYPE=image/png:https://rftw.us/wp-content/uploads/2024/09/California-State-Flag.png
ORGANIZER;CN="Don 'EZ' Burns":MAILTO:don.burns@rftw.us
END:VEVENT
BEGIN:VEVENT
DTSTART;TZID=America/Los_Angeles:20291031T073000
DTEND;TZID=America/Los_Angeles:20291031T090000
DTSTAMP:20260424T050125
CREATED:20250929T201238Z
LAST-MODIFIED:20251030T220123Z
UID:10000349-1888126200-1888131600@rftw.us
SUMMARY:Colorado RFTW Breakfast Get Together
DESCRIPTION:Many RFTW riders from Colorado get together for breakfast\, fellowship and fun EVERY WEDNESDAY at: \nDoug’s Diner\n4330 CO-66\nLongmont\, CO 80504\n(Google Maps) \nhttps://www.dougsdiner.com/ \nIt’s technically an 8AM start\, but people tend to start gathering at 7:30AM. \nFeel free to come any time\, and bring your spouse or partner\, too.
URL:https://rftw.us/event/colorado-rftw-breakfast-get-together-2/2029-10-31/
LOCATION:Doug’s Diner\, 4330 CO-66\, Longmont\, 80504\, United States
ATTACH;FMTTYPE=image/png:https://rftw.us/wp-content/uploads/2024/08/Colorado-State-Flag.png
ORGANIZER;CN="Kirk Olson":MAILTO:kirk.olson@rftw.us
END:VEVENT
BEGIN:VEVENT
DTSTART;TZID=America/Los_Angeles:20291107T073000
DTEND;TZID=America/Los_Angeles:20291107T090000
DTSTAMP:20260424T050125
CREATED:20250929T201238Z
LAST-MODIFIED:20251030T220123Z
UID:10000350-1888731000-1888736400@rftw.us
SUMMARY:Colorado RFTW Breakfast Get Together
DESCRIPTION:Many RFTW riders from Colorado get together for breakfast\, fellowship and fun EVERY WEDNESDAY at: \nDoug’s Diner\n4330 CO-66\nLongmont\, CO 80504\n(Google Maps) \nhttps://www.dougsdiner.com/ \nIt’s technically an 8AM start\, but people tend to start gathering at 7:30AM. \nFeel free to come any time\, and bring your spouse or partner\, too.
URL:https://rftw.us/event/colorado-rftw-breakfast-get-together-2/2029-11-07/
LOCATION:Doug’s Diner\, 4330 CO-66\, Longmont\, 80504\, United States
ATTACH;FMTTYPE=image/png:https://rftw.us/wp-content/uploads/2024/08/Colorado-State-Flag.png
ORGANIZER;CN="Kirk Olson":MAILTO:kirk.olson@rftw.us
END:VEVENT
BEGIN:VEVENT
DTSTART;TZID=America/Los_Angeles:20291114T073000
DTEND;TZID=America/Los_Angeles:20291114T090000
DTSTAMP:20260424T050125
CREATED:20250929T201238Z
LAST-MODIFIED:20251030T220123Z
UID:10000351-1889335800-1889341200@rftw.us
SUMMARY:Colorado RFTW Breakfast Get Together
DESCRIPTION:Many RFTW riders from Colorado get together for breakfast\, fellowship and fun EVERY WEDNESDAY at: \nDoug’s Diner\n4330 CO-66\nLongmont\, CO 80504\n(Google Maps) \nhttps://www.dougsdiner.com/ \nIt’s technically an 8AM start\, but people tend to start gathering at 7:30AM. \nFeel free to come any time\, and bring your spouse or partner\, too.
URL:https://rftw.us/event/colorado-rftw-breakfast-get-together-2/2029-11-14/
LOCATION:Doug’s Diner\, 4330 CO-66\, Longmont\, 80504\, United States
ATTACH;FMTTYPE=image/png:https://rftw.us/wp-content/uploads/2024/08/Colorado-State-Flag.png
ORGANIZER;CN="Kirk Olson":MAILTO:kirk.olson@rftw.us
END:VEVENT
BEGIN:VEVENT
DTSTART;TZID=America/Los_Angeles:20291121T073000
DTEND;TZID=America/Los_Angeles:20291121T090000
DTSTAMP:20260424T050125
CREATED:20250929T201238Z
LAST-MODIFIED:20251030T220123Z
UID:10000352-1889940600-1889946000@rftw.us
SUMMARY:Colorado RFTW Breakfast Get Together
DESCRIPTION:Many RFTW riders from Colorado get together for breakfast\, fellowship and fun EVERY WEDNESDAY at: \nDoug’s Diner\n4330 CO-66\nLongmont\, CO 80504\n(Google Maps) \nhttps://www.dougsdiner.com/ \nIt’s technically an 8AM start\, but people tend to start gathering at 7:30AM. \nFeel free to come any time\, and bring your spouse or partner\, too.
URL:https://rftw.us/event/colorado-rftw-breakfast-get-together-2/2029-11-21/
LOCATION:Doug’s Diner\, 4330 CO-66\, Longmont\, 80504\, United States
ATTACH;FMTTYPE=image/png:https://rftw.us/wp-content/uploads/2024/08/Colorado-State-Flag.png
ORGANIZER;CN="Kirk Olson":MAILTO:kirk.olson@rftw.us
END:VEVENT
BEGIN:VEVENT
DTSTART;TZID=America/Los_Angeles:20291124T110000
DTEND;TZID=America/Los_Angeles:20291124T123000
DTSTAMP:20260424T050125
CREATED:20250929T201929Z
LAST-MODIFIED:20250929T201929Z
UID:10000399-1890212400-1890217800@rftw.us
SUMMARY:NorCal Monthly RFTW Meeting
DESCRIPTION:The NorCal RFTW meetup group meets on the 4th Saturday of each month at the Cornerstone Cafe in Sacramento. Come join us to stay in touch with your RFTW family and meet FNG’s to help them succeed.
URL:https://rftw.us/event/norcal-monthly-rftw-meeting-2/2029-11-24/
LOCATION:Cornerstone Cafe\, 1617 Sacramento Ave\, West Sacramento\, CA\, 95605\, United States
ATTACH;FMTTYPE=image/png:https://rftw.us/wp-content/uploads/2024/09/California-State-Flag.png
ORGANIZER;CN="Don 'EZ' Burns":MAILTO:don.burns@rftw.us
END:VEVENT
BEGIN:VEVENT
DTSTART;TZID=America/Los_Angeles:20291128T073000
DTEND;TZID=America/Los_Angeles:20291128T090000
DTSTAMP:20260424T050125
CREATED:20250929T201238Z
LAST-MODIFIED:20251030T220123Z
UID:10000353-1890545400-1890550800@rftw.us
SUMMARY:Colorado RFTW Breakfast Get Together
DESCRIPTION:Many RFTW riders from Colorado get together for breakfast\, fellowship and fun EVERY WEDNESDAY at: \nDoug’s Diner\n4330 CO-66\nLongmont\, CO 80504\n(Google Maps) \nhttps://www.dougsdiner.com/ \nIt’s technically an 8AM start\, but people tend to start gathering at 7:30AM. \nFeel free to come any time\, and bring your spouse or partner\, too.
URL:https://rftw.us/event/colorado-rftw-breakfast-get-together-2/2029-11-28/
LOCATION:Doug’s Diner\, 4330 CO-66\, Longmont\, 80504\, United States
ATTACH;FMTTYPE=image/png:https://rftw.us/wp-content/uploads/2024/08/Colorado-State-Flag.png
ORGANIZER;CN="Kirk Olson":MAILTO:kirk.olson@rftw.us
END:VEVENT
BEGIN:VEVENT
DTSTART;TZID=America/Los_Angeles:20291205T073000
DTEND;TZID=America/Los_Angeles:20291205T090000
DTSTAMP:20260424T050125
CREATED:20250929T201238Z
LAST-MODIFIED:20251030T220123Z
UID:10000354-1891150200-1891155600@rftw.us
SUMMARY:Colorado RFTW Breakfast Get Together
DESCRIPTION:Many RFTW riders from Colorado get together for breakfast\, fellowship and fun EVERY WEDNESDAY at: \nDoug’s Diner\n4330 CO-66\nLongmont\, CO 80504\n(Google Maps) \nhttps://www.dougsdiner.com/ \nIt’s technically an 8AM start\, but people tend to start gathering at 7:30AM. \nFeel free to come any time\, and bring your spouse or partner\, too.
URL:https://rftw.us/event/colorado-rftw-breakfast-get-together-2/2029-12-05/
LOCATION:Doug’s Diner\, 4330 CO-66\, Longmont\, 80504\, United States
ATTACH;FMTTYPE=image/png:https://rftw.us/wp-content/uploads/2024/08/Colorado-State-Flag.png
ORGANIZER;CN="Kirk Olson":MAILTO:kirk.olson@rftw.us
END:VEVENT
BEGIN:VEVENT
DTSTART;TZID=America/Los_Angeles:20291212T073000
DTEND;TZID=America/Los_Angeles:20291212T090000
DTSTAMP:20260424T050125
CREATED:20250929T201238Z
LAST-MODIFIED:20251030T220123Z
UID:10000355-1891755000-1891760400@rftw.us
SUMMARY:Colorado RFTW Breakfast Get Together
DESCRIPTION:Many RFTW riders from Colorado get together for breakfast\, fellowship and fun EVERY WEDNESDAY at: \nDoug’s Diner\n4330 CO-66\nLongmont\, CO 80504\n(Google Maps) \nhttps://www.dougsdiner.com/ \nIt’s technically an 8AM start\, but people tend to start gathering at 7:30AM. \nFeel free to come any time\, and bring your spouse or partner\, too.
URL:https://rftw.us/event/colorado-rftw-breakfast-get-together-2/2029-12-12/
LOCATION:Doug’s Diner\, 4330 CO-66\, Longmont\, 80504\, United States
ATTACH;FMTTYPE=image/png:https://rftw.us/wp-content/uploads/2024/08/Colorado-State-Flag.png
ORGANIZER;CN="Kirk Olson":MAILTO:kirk.olson@rftw.us
END:VEVENT
END:VCALENDAR